Workbook

Sheet Daten
A2: KG | B2: Ja
A3: 0 | B3: Nein
A4: 1
A5: 2
A6: 3
A7: 4
A8: 5
A9: 6
A10: 7
A11: 8
A12: 9
A13: 10
A14: 11
A15: 12
A16: 13

Sheet Übersicht
A2: Schulbeihilfe Direktabrechnung
A4: Gesamtabrechnung | F4: Die Richtigkeit der Gesamtabrechnung wird bestätigt.
A5: Schulort: | F5: Eine aktuelle Gebührenordnung ist beigefügt.
A6: Schule:
A7: Land:
A8: Schuljahr:
B10: Seite 1 | C10: ='Seite 1'!H29 -> 0
B11: Seite 2 | C11: ='Seite 2'!H29 -> 0
B12: Seite 3 | C12: ='Seite 3'!H29 -> 0
B13: Seite 4 | C13: ='Seite 4'!H29 -> 0 | F13: Datum, Unterschrift, Funktion und Siegel des Beauftragten Verwaltungsleiters | H13: Bestätigung der Auslandsvertretung, falls keine Vwl. beauftragt ist
B14: Seite 5 | C14: ='Seite 5'!H29 -> 0
B15: Seite 6 | C15: ='Seite 6'!H29 -> 0
B16: Summe: | C16: =SUM(C10:C15) -> 0
F18: Namen bitte immer auch in Druckbuchstaben
B23: Bemerkungen und Erläuterungen:

Sheet Seite 1
A2: Abrechnung Schulbeihilfe Direktabrechnung
A5: Schule | B5: Schulort | C5: Land | D5: Schuljahr | E5: Währung | F5: Datum Umrechnungskurs | G5: Kurs
A6: =Übersicht!B6 -> 0 | B6: =Übersicht!B5 -> 0 | C6: =Übersicht!B7 -> 0 | D6: =Übersicht!B8 -> 0
A8: Name der Lehrkraft | B8: Name des Kindes | C8: Klasse | D8: Monate | E8: Schul-/KiGa-Gebühren | F8: Aufnahmegebühr | G8: sonstige Gebühren | H8: Schulbus | I8: IT-Gebühren
A19: Name der Lehrkraft | B19: Name des Kindes | C19: Summe je Kind Landeswährung | D19: Summe je Kind Euro | E19: Eigenanteil | F19: Verpflegung inklusive? | G19: Abzug für Verpflegung | H19: Zuwendungs-fähig
A20: =A9 -> 0 | B20: =B9 -> 0 | C20: =SUM(E9:I9) -> 0 | D20: =C20*$G$6 -> 0 | E20: =IF(C9="KG",-100*D9,0) -> 0 | F20: Nein | G20: =IF(F20="Ja",D20/100*-10,0) -> 0 | H20: =D20+E20+G20 -> 0
A21: =A10 -> 0 | B21: =B10 -> 0 | C21: =SUM(E10:I10) -> 0 | D21: =C21*$G$6 -> 0 | E21: =IF(C10="KG",-100*D10,0) -> 0 | F21: Nein | G21: =IF(F21="Ja",D21/100*10,0) -> 0 | H21: =D21+E21+G21 -> 0
A22: =A11 -> 0 | B22: =B11 -> 0 | C22: =SUM(E11:I11) -> 0 | D22: =C22*$G$6 -> 0 | E22: =IF(C11="KG",-100*D11,0) -> 0 | F22: Nein | G22: =IF(F22="Ja",D22/100*10,0) -> 0 | H22: =D22+E22+G22 -> 0
A23: =A12 -> 0 | B23: =B12 -> 0 | C23: =SUM(E12:I12) -> 0 | D23: =C23*$G$6 -> 0 | E23: =IF(C12="KG",-100*D12,0) -> 0 | F23: Nein | G23: =IF(F23="Ja",D23/100*10,0) -> 0 | H23: =D23+E23+G23 -> 0
A24: =A13 -> 0 | B24: =B13 -> 0 | C24: =SUM(E13:I13) -> 0 | D24: =C24*$G$6 -> 0 | E24: =IF(C13="KG",-100*D13,0) -> 0 | F24: Nein | G24: =IF(F24="Ja",D24/100*10,0) -> 0 | H24: =D24+E24+G24 -> 0
A25: =A14 -> 0 | B25: =B14 -> 0 | C25: =SUM(E14:I14) -> 0 | D25: =C25*$G$6 -> 0 | E25: =IF(C14="KG",-100*D14,0) -> 0 | F25: Nein | G25: =IF(F25="Ja",D25/100*10,0) -> 0 | H25: =D25+E25+G25 -> 0
A26: =A15 -> 0 | B26: =B15 -> 0 | C26: =SUM(E15:I15) -> 0 | D26: =C26*$G$6 -> 0 | E26: =IF(C15="KG",-100*D15,0) -> 0 | F26: Nein | G26: =IF(F26="Ja",D26/100*10,0) -> 0 | H26: =D26+E26+G26 -> 0
A27: =A16 -> 0 | B27: =B16 -> 0 | C27: =SUM(E16:I16) -> 0 | D27: =C27*$G$6 -> 0 | E27: =IF(C16="KG",-100*D16,0) -> 0 | F27: Nein | G27: =IF(F27="Ja",D27/100*10,0) -> 0 | H27: =D27+E27+G27 -> 0
A28: =A17 -> 0 | B28: =B17 -> 0 | C28: =SUM(E17:I17) -> 0 | D28: =C28*$G$6 -> 0 | E28: =IF(C17="KG",-100*D17,0) -> 0 | F28: Nein | G28: =IF(F28="Ja",D28/100*10,0) -> 0 | H28: =D28+E28+G28 -> 0
G29: Summe | H29: =SUM(H20:H28) -> 0

Sheet Seite 2
A2: Abrechnung Schulbeihilfe Direktabrechnung
A5: Schule | B5: Schulort | C5: Land | D5: Schuljahr | E5: Währung | F5: Datum Umrechnungskurs | G5: Kurs
A6: =Übersicht!B6 -> 0 | B6: =Übersicht!B5 -> 0 | C6: =Übersicht!B7 -> 0 | D6: =Übersicht!B8 -> 0
A8: Name der Lehrkraft | B8: Name des Kindes | C8: Klasse | D8: Monate | E8: Schul-/KiGa-Gebühren | F8: Aufnahmegebühr | G8: sonstige Gebühren | H8: Schulbus | I8: IT-Gebühren
A19: Name der Lehrkraft | B19: Name des Kindes | C19: Summe je Kind Landeswährung | D19: Summe je Kind Euro | E19: Eigenanteil | F19: Verpflegung inklusive? | G19: Abzug für Verpflegung | H19: Zuwendungsfähig
A20: =A9 -> 0 | B20: =B9 -> 0 | C20: =SUM(E9:I9) -> 0 | D20: =C20*$G$6 -> 0 | E20: =IF(C9="KG",-100*D9,0) -> 0 | F20: Nein | G20: =IF(F20="Ja",D20/100*-10,0) -> 0 | H20: =D20+E20+G20 -> 0
A21: =A10 -> 0 | B21: =B10 -> 0 | C21: =SUM(E10:I10) -> 0 | D21: =C21*$G$6 -> 0 | E21: =IF(C10="KG",-100*D10,0) -> 0 | F21: Nein | G21: =IF(F21="Ja",D21/100*10,0) -> 0 | H21: =D21+E21+G21 -> 0
A22: =A11 -> 0 | B22: =B11 -> 0 | C22: =SUM(E11:I11) -> 0 | D22: =C22*$G$6 -> 0 | E22: =IF(C11="KG",-100*D11,0) -> 0 | F22: Nein | G22: =IF(F22="Ja",D22/100*10,0) -> 0 | H22: =D22+E22+G22 -> 0
A23: =A12 -> 0 | B23: =B12 -> 0 | C23: =SUM(E12:I12) -> 0 | D23: =C23*$G$6 -> 0 | E23: =IF(C12="KG",-100*D12,0) -> 0 | F23: Nein | G23: =IF(F23="Ja",D23/100*10,0) -> 0 | H23: =D23+E23+G23 -> 0
A24: =A13 -> 0 | B24: =B13 -> 0 | C24: =SUM(E13:I13) -> 0 | D24: =C24*$G$6 -> 0 | E24: =IF(C13="KG",-100*D13,0) -> 0 | F24: Nein | G24: =IF(F24="Ja",D24/100*10,0) -> 0 | H24: =D24+E24+G24 -> 0
A25: =A14 -> 0 | B25: =B14 -> 0 | C25: =SUM(E14:I14) -> 0 | D25: =C25*$G$6 -> 0 | E25: =IF(C14="KG",-100*D14,0) -> 0 | F25: Nein | G25: =IF(F25="Ja",D25/100*10,0) -> 0 | H25: =D25+E25+G25 -> 0
A26: =A15 -> 0 | B26: =B15 -> 0 | C26: =SUM(E15:I15) -> 0 | D26: =C26*$G$6 -> 0 | E26: =IF(C15="KG",-100*D15,0) -> 0 | F26: Nein | G26: =IF(F26="Ja",D26/100*10,0) -> 0 | H26: =D26+E26+G26 -> 0
A27: =A16 -> 0 | B27: =B16 -> 0 | C27: =SUM(E16:I16) -> 0 | D27: =C27*$G$6 -> 0 | E27: =IF(C16="KG",-100*D16,0) -> 0 | F27: Nein | G27: =IF(F27="Ja",D27/100*10,0) -> 0 | H27: =D27+E27+G27 -> 0
A28: =A17 -> 0 | B28: =B17 -> 0 | C28: =SUM(E17:I17) -> 0 | D28: =C28*$G$6 -> 0 | E28: =IF(C17="KG",-100*D17,0) -> 0 | F28: Nein | G28: =IF(F28="Ja",D28/100*10,0) -> 0 | H28: =D28+E28+G28 -> 0
G29: Summe | H29: =SUM(H20:H28) -> 0

Sheet Seite 3
A2: Abrechnung Schulbeihilfe Direktabrechnung
A5: Schule | B5: Schulort | C5: Land | D5: Schuljahr | E5: Währung | F5: Datum Umrechnungskurs | G5: Kurs
A6: =Übersicht!B6 -> 0 | B6: =Übersicht!B5 -> 0 | C6: =Übersicht!B7 -> 0 | D6: =Übersicht!B8 -> 0
A8: Name der Lehrkraft | B8: Name des Kindes | C8: Klasse | D8: Monate | E8: Schul-/KiGa-Gebühren | F8: Aufnahmegebühr | G8: sonstige Gebühren | H8: Schulbus | I8: IT-Gebühren
A19: Name der Lehrkraft | B19: Name des Kindes | C19: Summe je Kind Landeswährung | D19: Summe je Kind Euro | E19: Eigenanteil | F19: Verpflegung inklusive? | G19: Abzug für Verpflegung | H19: Zuwendungsfähig
A20: =A9 -> 0 | B20: =B9 -> 0 | C20: =SUM(E9:I9) -> 0 | D20: =C20*$G$6 -> 0 | E20: =IF(C9="KG",-100*D9,0) -> 0 | F20: Nein | G20: =IF(F20="Ja",D20/100*-10,0) -> 0 | H20: =D20+E20+G20 -> 0
A21: =A10 -> 0 | B21: =B10 -> 0 | C21: =SUM(E10:I10) -> 0 | D21: =C21*$G$6 -> 0 | E21: =IF(C10="KG",-100*D10,0) -> 0 | F21: Nein | G21: =IF(F21="Ja",D21/100*10,0) -> 0 | H21: =D21+E21+G21 -> 0
A22: =A11 -> 0 | B22: =B11 -> 0 | C22: =SUM(E11:I11) -> 0 | D22: =C22*$G$6 -> 0 | E22: =IF(C11="KG",-100*D11,0) -> 0 | F22: Nein | G22: =IF(F22="Ja",D22/100*10,0) -> 0 | H22: =D22+E22+G22 -> 0
A23: =A12 -> 0 | B23: =B12 -> 0 | C23: =SUM(E12:I12) -> 0 | D23: =C23*$G$6 -> 0 | E23: =IF(C12="KG",-100*D12,0) -> 0 | F23: Nein | G23: =IF(F23="Ja",D23/100*10,0) -> 0 | H23: =D23+E23+G23 -> 0
A24: =A13 -> 0 | B24: =B13 -> 0 | C24: =SUM(E13:I13) -> 0 | D24: =C24*$G$6 -> 0 | E24: =IF(C13="KG",-100*D13,0) -> 0 | F24: Nein | G24: =IF(F24="Ja",D24/100*10,0) -> 0 | H24: =D24+E24+G24 -> 0
A25: =A14 -> 0 | B25: =B14 -> 0 | C25: =SUM(E14:I14) -> 0 | D25: =C25*$G$6 -> 0 | E25: =IF(C14="KG",-100*D14,0) -> 0 | F25: Nein | G25: =IF(F25="Ja",D25/100*10,0) -> 0 | H25: =D25+E25+G25 -> 0
A26: =A15 -> 0 | B26: =B15 -> 0 | C26: =SUM(E15:I15) -> 0 | D26: =C26*$G$6 -> 0 | E26: =IF(C15="KG",-100*D15,0) -> 0 | F26: Nein | G26: =IF(F26="Ja",D26/100*10,0) -> 0 | H26: =D26+E26+G26 -> 0
A27: =A16 -> 0 | B27: =B16 -> 0 | C27: =SUM(E16:I16) -> 0 | D27: =C27*$G$6 -> 0 | E27: =IF(C16="KG",-100*D16,0) -> 0 | F27: Nein | G27: =IF(F27="Ja",D27/100*10,0) -> 0 | H27: =D27+E27+G27 -> 0
A28: =A17 -> 0 | B28: =B17 -> 0 | C28: =SUM(E17:I17) -> 0 | D28: =C28*$G$6 -> 0 | E28: =IF(C17="KG",-100*D17,0) -> 0 | F28: Nein | G28: =IF(F28="Ja",D28/100*10,0) -> 0 | H28: =D28+E28+G28 -> 0
G29: Summe | H29: =SUM(H20:H28) -> 0

Sheet Seite 4
A2: Abrechnung Schulbeihilfe Direktabrechnung
A5: Schule | B5: Schulort | C5: Land | D5: Schuljahr | E5: Währung | F5: Datum Umrechnungskurs | G5: Kurs
A6: =Übersicht!B6 -> 0 | B6: =Übersicht!B5 -> 0 | C6: =Übersicht!B7 -> 0 | D6: =Übersicht!B8 -> 0
A8: Name der Lehrkraft | B8: Name des Kindes | C8: Klasse | D8: Monate | E8: Schul-/KiGa-Gebühren | F8: Aufnahmegebühr | G8: sonstige Gebühren | H8: Schulbus | I8: IT-Gebühren
A19: Name der Lehrkraft | B19: Name des Kindes | C19: Summe je Kind Landeswährung | D19: Summe je Kind Euro | E19: Eigenanteil | F19: Verpflegung inklusive? | G19: Abzug für Verpflegung | H19: Zuwendungsfähig
A20: =A9 -> 0 | B20: =B9 -> 0 | C20: =SUM(E9:I9) -> 0 | D20: =C20*$G$6 -> 0 | E20: =IF(C9="KG",-100*D9,0) -> 0 | F20: Nein | G20: =IF(F20="Ja",D20/100*-10,0) -> 0 | H20: =D20+E20+G20 -> 0
A21: =A10 -> 0 | B21: =B10 -> 0 | C21: =SUM(E10:I10) -> 0 | D21: =C21*$G$6 -> 0 | E21: =IF(C10="KG",-100*D10,0) -> 0 | F21: Nein | G21: =IF(F21="Ja",D21/100*10,0) -> 0 | H21: =D21+E21+G21 -> 0
A22: =A11 -> 0 | B22: =B11 -> 0 | C22: =SUM(E11:I11) -> 0 | D22: =C22*$G$6 -> 0 | E22: =IF(C11="KG",-100*D11,0) -> 0 | F22: Nein | G22: =IF(F22="Ja",D22/100*10,0) -> 0 | H22: =D22+E22+G22 -> 0
A23: =A12 -> 0 | B23: =B12 -> 0 | C23: =SUM(E12:I12) -> 0 | D23: =C23*$G$6 -> 0 | E23: =IF(C12="KG",-100*D12,0) -> 0 | F23: Nein | G23: =IF(F23="Ja",D23/100*10,0) -> 0 | H23: =D23+E23+G23 -> 0
A24: =A13 -> 0 | B24: =B13 -> 0 | C24: =SUM(E13:I13) -> 0 | D24: =C24*$G$6 -> 0 | E24: =IF(C13="KG",-100*D13,0) -> 0 | F24: Nein | G24: =IF(F24="Ja",D24/100*10,0) -> 0 | H24: =D24+E24+G24 -> 0
A25: =A14 -> 0 | B25: =B14 -> 0 | C25: =SUM(E14:I14) -> 0 | D25: =C25*$G$6 -> 0 | E25: =IF(C14="KG",-100*D14,0) -> 0 | F25: Nein | G25: =IF(F25="Ja",D25/100*10,0) -> 0 | H25: =D25+E25+G25 -> 0
A26: =A15 -> 0 | B26: =B15 -> 0 | C26: =SUM(E15:I15) -> 0 | D26: =C26*$G$6 -> 0 | E26: =IF(C15="KG",-100*D15,0) -> 0 | F26: Nein | G26: =IF(F26="Ja",D26/100*10,0) -> 0 | H26: =D26+E26+G26 -> 0
A27: =A16 -> 0 | B27: =B16 -> 0 | C27: =SUM(E16:I16) -> 0 | D27: =C27*$G$6 -> 0 | E27: =IF(C16="KG",-100*D16,0) -> 0 | F27: Nein | G27: =IF(F27="Ja",D27/100*10,0) -> 0 | H27: =D27+E27+G27 -> 0
A28: =A17 -> 0 | B28: =B17 -> 0 | C28: =SUM(E17:I17) -> 0 | D28: =C28*$G$6 -> 0 | E28: =IF(C17="KG",-100*D17,0) -> 0 | F28: Nein | G28: =IF(F28="Ja",D28/100*10,0) -> 0 | H28: =D28+E28+G28 -> 0
G29: Summe | H29: =SUM(H20:H28) -> 0

Sheet Seite 5
A2: Abrechnung Schulbeihilfe Direktabrechnung
A5: Schule | B5: Schulort | C5: Land | D5: Schuljahr | E5: Währung | F5: Datum Umrechnungskurs | G5: Kurs
A6: =Übersicht!B6 -> 0 | B6: =Übersicht!B5 -> 0 | C6: =Übersicht!B7 -> 0 | D6: =Übersicht!B8 -> 0
A8: Name der Lehrkraft | B8: Name des Kindes | C8: Klasse | D8: Monate | E8: Schul-/KiGa-Gebühren | F8: Aufnahmegebühr | G8: sonstige Gebühren | H8: Schulbus | I8: IT-Gebühren
A19: Name der Lehrkraft | B19: Name des Kindes | C19: Summe je Kind Landeswährung | D19: Summe je Kind Euro | E19: Eigenanteil | F19: Verpflegung inklusive? | G19: Abzug für Verpflegung | H19: Zuwendungsfähig
A20: =A9 -> 0 | B20: =B9 -> 0 | C20: =SUM(E9:I9) -> 0 | D20: =C20*$G$6 -> 0 | E20: =IF(C9="KG",-100*D9,0) -> 0 | F20: Nein | G20: =IF(F20="Ja",D20/100*-10,0) -> 0 | H20: =D20+E20+G20 -> 0
A21: =A10 -> 0 | B21: =B10 -> 0 | C21: =SUM(E10:I10) -> 0 | D21: =C21*$G$6 -> 0 | E21: =IF(C10="KG",-100*D10,0) -> 0 | F21: Nein | G21: =IF(F21="Ja",D21/100*10,0) -> 0 | H21: =D21+E21+G21 -> 0
A22: =A11 -> 0 | B22: =B11 -> 0 | C22: =SUM(E11:I11) -> 0 | D22: =C22*$G$6 -> 0 | E22: =IF(C11="KG",-100*D11,0) -> 0 | F22: Nein | G22: =IF(F22="Ja",D22/100*10,0) -> 0 | H22: =D22+E22+G22 -> 0
A23: =A12 -> 0 | B23: =B12 -> 0 | C23: =SUM(E12:I12) -> 0 | D23: =C23*$G$6 -> 0 | E23: =IF(C12="KG",-100*D12,0) -> 0 | F23: Nein | G23: =IF(F23="Ja",D23/100*10,0) -> 0 | H23: =D23+E23+G23 -> 0
A24: =A13 -> 0 | B24: =B13 -> 0 | C24: =SUM(E13:I13) -> 0 | D24: =C24*$G$6 -> 0 | E24: =IF(C13="KG",-100*D13,0) -> 0 | F24: Nein | G24: =IF(F24="Ja",D24/100*10,0) -> 0 | H24: =D24+E24+G24 -> 0
A25: =A14 -> 0 | B25: =B14 -> 0 | C25: =SUM(E14:I14) -> 0 | D25: =C25*$G$6 -> 0 | E25: =IF(C14="KG",-100*D14,0) -> 0 | F25: Nein | G25: =IF(F25="Ja",D25/100*10,0) -> 0 | H25: =D25+E25+G25 -> 0
A26: =A15 -> 0 | B26: =B15 -> 0 | C26: =SUM(E15:I15) -> 0 | D26: =C26*$G$6 -> 0 | E26: =IF(C15="KG",-100*D15,0) -> 0 | F26: Nein | G26: =IF(F26="Ja",D26/100*10,0) -> 0 | H26: =D26+E26+G26 -> 0
A27: =A16 -> 0 | B27: =B16 -> 0 | C27: =SUM(E16:I16) -> 0 | D27: =C27*$G$6 -> 0 | E27: =IF(C16="KG",-100*D16,0) -> 0 | F27: Nein | G27: =IF(F27="Ja",D27/100*10,0) -> 0 | H27: =D27+E27+G27 -> 0
A28: =A17 -> 0 | B28: =B17 -> 0 | C28: =SUM(E17:I17) -> 0 | D28: =C28*$G$6 -> 0 | E28: =IF(C17="KG",-100*D17,0) -> 0 | F28: Nein | G28: =IF(F28="Ja",D28/100*10,0) -> 0 | H28: =D28+E28+G28 -> 0
G29: Summe | H29: =SUM(H20:H28) -> 0

Sheet Seite 6
A2: Abrechnung Schulbeihilfe Direktabrechnung
A5: Schule | B5: Schulort | C5: Land | D5: Schuljahr | E5: Währung | F5: Datum Umrechnungskurs | G5: Kurs
A6: =Übersicht!B6 -> 0 | B6: =Übersicht!B5 -> 0 | C6: =Übersicht!B7 -> 0 | D6: =Übersicht!B8 -> 0
A8: Name der Lehrkraft | B8: Name des Kindes | C8: Klasse | D8: Monate | E8: Schul-/KiGa-Gebühren | F8: Aufnahmegebühr | G8: sonstige Gebühren | H8: Schulbus | I8: IT-Gebühren
A19: Name der Lehrkraft | B19: Name des Kindes | C19: Summe je Kind Landeswährung | D19: Summe je Kind Euro | E19: Eigenanteil | F19: Verpflegung inklusive? | G19: Abzug für Verpflegung | H19: Zuwendungsfähig
A20: =A9 -> 0 | B20: =B9 -> 0 | C20: =SUM(E9:I9) -> 0 | D20: =C20*$G$6 -> 0 | E20: =IF(C9="KG",-100*D9,0) -> 0 | F20: Nein | G20: =IF(F20="Ja",D20/100*-10,0) -> 0 | H20: =D20+E20+G20 -> 0
A21: =A10 -> 0 | B21: =B10 -> 0 | C21: =SUM(E10:I10) -> 0 | D21: =C21*$G$6 -> 0 | E21: =IF(C10="KG",-100*D10,0) -> 0 | F21: Nein | G21: =IF(F21="Ja",D21/100*10,0) -> 0 | H21: =D21+E21+G21 -> 0
A22: =A11 -> 0 | B22: =B11 -> 0 | C22: =SUM(E11:I11) -> 0 | D22: =C22*$G$6 -> 0 | E22: =IF(C11="KG",-100*D11,0) -> 0 | F22: Nein | G22: =IF(F22="Ja",D22/100*10,0) -> 0 | H22: =D22+E22+G22 -> 0
A23: =A12 -> 0 | B23: =B12 -> 0 | C23: =SUM(E12:I12) -> 0 | D23: =C23*$G$6 -> 0 | E23: =IF(C12="KG",-100*D12,0) -> 0 | F23: Nein | G23: =IF(F23="Ja",D23/100*10,0) -> 0 | H23: =D23+E23+G23 -> 0
A24: =A13 -> 0 | B24: =B13 -> 0 | C24: =SUM(E13:I13) -> 0 | D24: =C24*$G$6 -> 0 | E24: =IF(C13="KG",-100*D13,0) -> 0 | F24: Nein | G24: =IF(F24="Ja",D24/100*10,0) -> 0 | H24: =D24+E24+G24 -> 0
A25: =A14 -> 0 | B25: =B14 -> 0 | C25: =SUM(E14:I14) -> 0 | D25: =C25*$G$6 -> 0 | E25: =IF(C14="KG",-100*D14,0) -> 0 | F25: Nein | G25: =IF(F25="Ja",D25/100*10,0) -> 0 | H25: =D25+E25+G25 -> 0
A26: =A15 -> 0 | B26: =B15 -> 0 | C26: =SUM(E15:I15) -> 0 | D26: =C26*$G$6 -> 0 | E26: =IF(C15="KG",-100*D15,0) -> 0 | F26: Nein | G26: =IF(F26="Ja",D26/100*10,0) -> 0 | H26: =D26+E26+G26 -> 0
A27: =A16 -> 0 | B27: =B16 -> 0 | C27: =SUM(E16:I16) -> 0 | D27: =C27*$G$6 -> 0 | E27: =IF(C16="KG",-100*D16,0) -> 0 | F27: Nein | G27: =IF(F27="Ja",D27/100*10,0) -> 0 | H27: =D27+E27+G27 -> 0
A28: =A17 -> 0 | B28: =B17 -> 0 | C28: =SUM(E17:I17) -> 0 | D28: =C28*$G$6 -> 0 | E28: =IF(C17="KG",-100*D17,0) -> 0 | F28: Nein | G28: =IF(F28="Ja",D28/100*10,0) -> 0 | H28: =D28+E28+G28 -> 0
G29: Summe | H29: =SUM(H20:H28) -> 0
