Workbook

Sheet Daten
A2: KG | B2: Ja
A3: KG weiteres Kind | B3: Ja Festbetrag
A4: VS | B4: Nein
A5: 1 | B5: Nein
A6: 2
A7: 3
A8: 4
A9: 5
A10: 6
A11: 7
A12: 8
A13: 9
A14: 10
A15: 11
A16: 12
A17: 13

Sheet Anleitung
A2: Ausfüllanleitung
A4: Bitte füllen Sie im Tabellenblatt "Übersicht" folgende Zellen aus:
A6: Schulort
A7: Schule
A8: Land
A9: Schuljahr
A10: Kurs
A11: Währung
A12: Datum des Währungskurses
A14: Diese Angaben werden auf die weiteren Tabellenblätter übernommen.
A16: Auf den Tabellenblättern 1-10 füllen Sie bitte folgende Felder aus:
A18: Name der Lehrkraft
A19: Name des Kindes
A20: Klasse | B20: KG = Kindergarten
B21: KG weiteres Kind = Bei zwei Kindergartenkindern wird der Eigenanteil nur einmal berechnet
B22: VS = Vorschule
B23: Klassen 1-10
A24: Monate | B24: Ein Kindergarten- / Schuljahr sind immer 12 Monate, auch wenn es Schließungszeiten gibt.
A25: Sofern bei Kindergartenkindern keine pauschale Verpflegung von 10% berechnet werden soll, sondern ein Festbetrag,
A26: muss dieser in den Zellen G20-G28 eingetragen werden.
A28: Es können in einem Blatt mehrere Lehrkräfte und deren Kinder erfasst werden.
A29: Bitte erfassen Sie ADLK und BPLK in getrennten Tabellenblättern.

Sheet Übersicht
A2: Schulbeihilfe Direktabrechnung
A4: Gesamtabrechnung | F4: Die Richtigkeit der Gesamtabrechnung wird bestätigt.
A5: Schulort: | C5: Währung: | F5: Eine aktuelle Gebührenordnung ist beigefügt.
A6: Schule: | C6: Kurs:
A7: Land: | C7: Datum:
A8: Schuljahr:
B10: Seite 1 | C10: ='Seite 1'!$I$29 -> 0
B11: Seite 2 | C11: ='Seite 2'!$I$29 -> 0
B12: Seite 3 | C12: ='Seite 3'!$I$29 -> 0
B13: Seite 4 | C13: ='Seite 4'!$I$29 -> 0 | F13: Datum, Unterschrift, Funktion und Siegel des Beauftragten Verwaltungsleiters | H13: Bestätigung der Auslandsvertretung, falls keine Vwl. beauftragt ist
B14: Seite 5 | C14: ='Seite 5'!$I$29 -> 0
B15: Seite 6 | C15: ='Seite 6'!$I$29 -> 0
B16: Seite 7 | C16: ='Seite 7'!$I$29 -> 0
B17: Seite 8 | C17: ='Seite 8'!I29 -> 0
B18: Seite 9 | C18: ='Seite 9'!I29 -> 0 | F18: Namen bitte immer auch in Druckbuchstaben
B19: Seite 10 | C19: ='Seite 10'!I29 -> 0
B20: Summe: | C20: =SUM(C10:C19) -> 0
B23: Bemerkungen und Erläuterungen:

Sheet Seite 1
A2: Abrechnung Schulbeihilfe Direktabrechnung
A5: Schule | B5: Schulort | C5: Land | D5: Schuljahr | E5: Währung | F5: Datum Umrechnungskurs | G5: Kurs
A6: =Übersicht!B6 -> 0 | B6: =Übersicht!B5 -> 0 | C6: =Übersicht!B7 -> 0 | D6: =Übersicht!B8 -> 0 | E6: =Übersicht!D5 -> 0 | F6: =Übersicht!D7 -> 0 | G6: =Übersicht!D6 -> 0
A8: Name der Lehrkraft | B8: Name des Kindes | C8: Klasse | D8: Monate | E8: Schul-/KiGa-Gebühren | F8: Aufnahmegebühr | G8: sonstige Gebühren | H8: Schulbus
A19: Name der Lehrkraft | B19: Name des Kindes | C19: Summe je Kind Landeswährung | D19: Summe je Kind Euro | E19: Eigenanteil | F19: Pauschale Verpflegung? | G19: Fester Betrag Verpflegung | H19: Abzug für Verpflegung | I19: Zuwendungs-fähig
A20: =A9 -> 0 | B20: =B9 -> 0 | C20: =SUM(E9:I9) -> 0 | D20: =C20*$G$6 -> 0 | E20: =IF(C9="KG",-100*D9,0) -> 0 | F20: Nein | H20: =IF(F20="Ja",E9/100*-10,-G20) -> 0 | I20: =D20+E20+H20 -> 0
A21: =A10 -> 0 | B21: =B10 -> 0 | C21: =SUM(E10:I10) -> 0 | D21: =C21*$G$6 -> 0 | E21: =IF(C10="KG",-100*D10,0) -> 0 | F21: Nein | H21: =IF(F21="Ja",E10/100*-10,-G21) -> 0 | I21: =D21+E21+H21 -> 0
A22: =A11 -> 0 | B22: =B11 -> 0 | C22: =SUM(E11:I11) -> 0 | D22: =C22*$G$6 -> 0 | E22: =IF(C11="KG",-100*D11,0) -> 0 | F22: Nein | H22: =IF(F22="Ja",E11/100*-10,-G22) -> 0 | I22: =D22+E22+H22 -> 0
A23: =A12 -> 0 | B23: =B12 -> 0 | C23: =SUM(E12:I12) -> 0 | D23: =C23*$G$6 -> 0 | E23: =IF(C12="KG",-100*D12,0) -> 0 | F23: Nein | H23: =IF(F23="Ja",E12/100*-10,-G23) -> 0 | I23: =D23+E23+H23 -> 0
A24: =A13 -> 0 | B24: =B13 -> 0 | C24: =SUM(E13:I13) -> 0 | D24: =C24*$G$6 -> 0 | E24: =IF(C13="KG",-100*D13,0) -> 0 | F24: Nein | H24: =IF(F24="Ja",E13/100*-10,-G24) -> 0 | I24: =D24+E24+H24 -> 0
A25: =A14 -> 0 | B25: =B14 -> 0 | C25: =SUM(E14:I14) -> 0 | D25: =C25*$G$6 -> 0 | E25: =IF(C14="KG",-100*D14,0) -> 0 | F25: Nein | H25: =IF(F25="Ja",E14/100*-10,-G25) -> 0 | I25: =D25+E25+H25 -> 0
A26: =A15 -> 0 | B26: =B15 -> 0 | C26: =SUM(E15:I15) -> 0 | D26: =C26*$G$6 -> 0 | E26: =IF(C15="KG",-100*D15,0) -> 0 | F26: Nein | H26: =IF(F26="Ja",E15/100*-10,-G26) -> 0 | I26: =D26+E26+H26 -> 0
A27: =A16 -> 0 | B27: =B16 -> 0 | C27: =SUM(E16:I16) -> 0 | D27: =C27*$G$6 -> 0 | E27: =IF(C16="KG",-100*D16,0) -> 0 | F27: Nein | H27: =IF(F27="Ja",E16/100*-10,-G27) -> 0 | I27: =D27+E27+H27 -> 0
A28: =A17 -> 0 | B28: =B17 -> 0 | C28: =SUM(E17:I17) -> 0 | D28: =C28*$G$6 -> 0 | E28: =IF(C17="KG",-100*D17,0) -> 0 | F28: Nein | H28: =IF(F28="Ja",E17/100*-10,-G28) -> 0 | I28: =D28+E28+H28 -> 0
H29: Summe | I29: =SUM(I20:I28) -> 0

Sheet Seite 2
A2: Abrechnung Schulbeihilfe Direktabrechnung
A5: Schule | B5: Schulort | C5: Land | D5: Schuljahr | E5: Währung | F5: Datum Umrechnungskurs | G5: Kurs
A6: =Übersicht!B6 -> 0 | B6: =Übersicht!B5 -> 0 | C6: =Übersicht!B7 -> 0 | D6: =Übersicht!B8 -> 0 | F6: =Übersicht!D7 -> 0 | G6: =Übersicht!D6 -> 0
A8: Name der Lehrkraft | B8: Name des Kindes | C8: Klasse | D8: Monate | E8: Schul-/KiGa-Gebühren | F8: Aufnahmegebühr | G8: sonstige Gebühren | H8: Schulbus
A19: Name der Lehrkraft | B19: Name des Kindes | C19: Summe je Kind Landeswährung | D19: Summe je Kind Euro | E19: Eigenanteil | F19: Verpflegung inklusive? | G19: Fester Betrag Verpflegung | H19: Abzug für Verpflegung | I19: Zuwendungs-fähig
A20: =A9 -> 0 | B20: =B9 -> 0 | C20: =SUM(E9:I9) -> 0 | D20: =C20*$G$6 -> 0 | E20: =IF(C9="KG",-100*D9,0) -> 0 | F20: Nein | H20: =IF(F20="Ja",E9/100*-10,-G20) -> 0 | I20: =D20+E20+H20 -> 0
A21: =A10 -> 0 | B21: =B10 -> 0 | C21: =SUM(E10:I10) -> 0 | D21: =C21*$G$6 -> 0 | E21: =IF(C10="KG",-100*D10,0) -> 0 | F21: Nein | H21: =IF(F21="Ja",E10/100*-10,-G21) -> 0 | I21: =D21+E21+H21 -> 0
A22: =A11 -> 0 | B22: =B11 -> 0 | C22: =SUM(E11:I11) -> 0 | D22: =C22*$G$6 -> 0 | E22: =IF(C11="KG",-100*D11,0) -> 0 | F22: Nein | H22: =IF(F22="Ja",E11/100*-10,-G22) -> 0 | I22: =D22+E22+H22 -> 0
A23: =A12 -> 0 | B23: =B12 -> 0 | C23: =SUM(E12:I12) -> 0 | D23: =C23*$G$6 -> 0 | E23: =IF(C12="KG",-100*D12,0) -> 0 | F23: Nein | H23: =IF(F23="Ja",E12/100*-10,-G23) -> 0 | I23: =D23+E23+H23 -> 0
A24: =A13 -> 0 | B24: =B13 -> 0 | C24: =SUM(E13:I13) -> 0 | D24: =C24*$G$6 -> 0 | E24: =IF(C13="KG",-100*D13,0) -> 0 | F24: Nein | H24: =IF(F24="Ja",E13/100*-10,-G24) -> 0 | I24: =D24+E24+H24 -> 0
A25: =A14 -> 0 | B25: =B14 -> 0 | C25: =SUM(E14:I14) -> 0 | D25: =C25*$G$6 -> 0 | E25: =IF(C14="KG",-100*D14,0) -> 0 | F25: Nein | H25: =IF(F25="Ja",E14/100*-10,-G25) -> 0 | I25: =D25+E25+H25 -> 0
A26: =A15 -> 0 | B26: =B15 -> 0 | C26: =SUM(E15:I15) -> 0 | D26: =C26*$G$6 -> 0 | E26: =IF(C15="KG",-100*D15,0) -> 0 | F26: Nein | H26: =IF(F26="Ja",E15/100*-10,-G26) -> 0 | I26: =D26+E26+H26 -> 0
A27: =A16 -> 0 | B27: =B16 -> 0 | C27: =SUM(E16:I16) -> 0 | D27: =C27*$G$6 -> 0 | E27: =IF(C16="KG",-100*D16,0) -> 0 | F27: Nein | H27: =IF(F27="Ja",E16/100*-10,-G27) -> 0 | I27: =D27+E27+H27 -> 0
A28: =A17 -> 0 | B28: =B17 -> 0 | C28: =SUM(E17:I17) -> 0 | D28: =C28*$G$6 -> 0 | E28: =IF(C17="KG",-100*D17,0) -> 0 | F28: Nein | H28: =IF(F28="Ja",E17/100*-10,-G28) -> 0 | I28: =D28+E28+H28 -> 0
H29: Summe | I29: =SUM(I20:I28) -> 0

Sheet Seite 3
A2: Abrechnung Schulbeihilfe Direktabrechnung
A5: Schule | B5: Schulort | C5: Land | D5: Schuljahr | E5: Währung | F5: Datum Umrechnungskurs | G5: Kurs
A6: =Übersicht!B6 -> 0 | B6: =Übersicht!B5 -> 0 | C6: =Übersicht!B7 -> 0 | D6: =Übersicht!B8 -> 0 | F6: =Übersicht!D7 -> 0 | G6: =Übersicht!D6 -> 0
A8: Name der Lehrkraft | B8: Name des Kindes | C8: Klasse | D8: Monate | E8: Schul-/KiGa-Gebühren | F8: Aufnahmegebühr | G8: sonstige Gebühren | H8: Schulbus
A19: Name der Lehrkraft | B19: Name des Kindes | C19: Summe je Kind Landeswährung | D19: Summe je Kind Euro | E19: Eigenanteil | F19: Verpflegung inklusive? | G19: Fester Betrag Verpflegung | H19: Abzug für Verpflegung | I19: Zuwendungs-fähig
A20: =A9 -> 0 | B20: =B9 -> 0 | C20: =SUM(E9:I9) -> 0 | D20: =C20*$G$6 -> 0 | E20: =IF(C9="KG",-100*D9,0) -> 0 | F20: Nein | H20: =IF(F20="Ja",E9/100*-10,-G20) -> 0 | I20: =D20+E20+H20 -> 0
A21: =A10 -> 0 | B21: =B10 -> 0 | C21: =SUM(E10:I10) -> 0 | D21: =C21*$G$6 -> 0 | E21: =IF(C10="KG",-100*D10,0) -> 0 | F21: Nein | H21: =IF(F21="Ja",E10/100*-10,-G21) -> 0 | I21: =D21+E21+H21 -> 0
A22: =A11 -> 0 | B22: =B11 -> 0 | C22: =SUM(E11:I11) -> 0 | D22: =C22*$G$6 -> 0 | E22: =IF(C11="KG",-100*D11,0) -> 0 | F22: Nein | H22: =IF(F22="Ja",E11/100*-10,-G22) -> 0 | I22: =D22+E22+H22 -> 0
A23: =A12 -> 0 | B23: =B12 -> 0 | C23: =SUM(E12:I12) -> 0 | D23: =C23*$G$6 -> 0 | E23: =IF(C12="KG",-100*D12,0) -> 0 | F23: Nein | H23: =IF(F23="Ja",E12/100*-10,-G23) -> 0 | I23: =D23+E23+H23 -> 0
A24: =A13 -> 0 | B24: =B13 -> 0 | C24: =SUM(E13:I13) -> 0 | D24: =C24*$G$6 -> 0 | E24: =IF(C13="KG",-100*D13,0) -> 0 | F24: Nein | H24: =IF(F24="Ja",E13/100*-10,-G24) -> 0 | I24: =D24+E24+H24 -> 0
A25: =A14 -> 0 | B25: =B14 -> 0 | C25: =SUM(E14:I14) -> 0 | D25: =C25*$G$6 -> 0 | E25: =IF(C14="KG",-100*D14,0) -> 0 | F25: Nein | H25: =IF(F25="Ja",E14/100*-10,-G25) -> 0 | I25: =D25+E25+H25 -> 0
A26: =A15 -> 0 | B26: =B15 -> 0 | C26: =SUM(E15:I15) -> 0 | D26: =C26*$G$6 -> 0 | E26: =IF(C15="KG",-100*D15,0) -> 0 | F26: Nein | H26: =IF(F26="Ja",E15/100*-10,-G26) -> 0 | I26: =D26+E26+H26 -> 0
A27: =A16 -> 0 | B27: =B16 -> 0 | C27: =SUM(E16:I16) -> 0 | D27: =C27*$G$6 -> 0 | E27: =IF(C16="KG",-100*D16,0) -> 0 | F27: Nein | H27: =IF(F27="Ja",E16/100*-10,-G27) -> 0 | I27: =D27+E27+H27 -> 0
A28: =A17 -> 0 | B28: =B17 -> 0 | C28: =SUM(E17:I17) -> 0 | D28: =C28*$G$6 -> 0 | E28: =IF(C17="KG",-100*D17,0) -> 0 | F28: Nein | H28: =IF(F28="Ja",E17/100*-10,-G28) -> 0 | I28: =D28+E28+H28 -> 0
H29: Summe | I29: =SUM(I20:I28) -> 0

Sheet Seite 4
A2: Abrechnung Schulbeihilfe Direktabrechnung
A5: Schule | B5: Schulort | C5: Land | D5: Schuljahr | E5: Währung | F5: Datum Umrechnungskurs | G5: Kurs
A6: =Übersicht!B6 -> 0 | B6: =Übersicht!B5 -> 0 | C6: =Übersicht!B7 -> 0 | D6: =Übersicht!B8 -> 0 | F6: =Übersicht!D7 -> 0 | G6: =Übersicht!D6 -> 0
A8: Name der Lehrkraft | B8: Name des Kindes | C8: Klasse | D8: Monate | E8: Schul-/KiGa-Gebühren | F8: Aufnahmegebühr | G8: sonstige Gebühren | H8: Schulbus
A19: Name der Lehrkraft | B19: Name des Kindes | C19: Summe je Kind Landeswährung | D19: Summe je Kind Euro | E19: Eigenanteil | F19: Verpflegung inklusive? | G19: Fester Betrag Verpflegung | H19: Abzug für Verpflegung | I19: Zuwendungs-fähig
A20: =A9 -> 0 | B20: =B9 -> 0 | C20: =SUM(E9:I9) -> 0 | D20: =C20*$G$6 -> 0 | E20: =IF(C9="KG",-100*D9,0) -> 0 | F20: Nein | H20: =IF(F20="Ja",E9/100*-10,-G20) -> 0 | I20: =D20+E20+H20 -> 0
A21: =A10 -> 0 | B21: =B10 -> 0 | C21: =SUM(E10:I10) -> 0 | D21: =C21*$G$6 -> 0 | E21: =IF(C10="KG",-100*D10,0) -> 0 | F21: Nein | H21: =IF(F21="Ja",E10/100*-10,-G21) -> 0 | I21: =D21+E21+H21 -> 0
A22: =A11 -> 0 | B22: =B11 -> 0 | C22: =SUM(E11:I11) -> 0 | D22: =C22*$G$6 -> 0 | E22: =IF(C11="KG",-100*D11,0) -> 0 | F22: Nein | H22: =IF(F22="Ja",E11/100*-10,-G22) -> 0 | I22: =D22+E22+H22 -> 0
A23: =A12 -> 0 | B23: =B12 -> 0 | C23: =SUM(E12:I12) -> 0 | D23: =C23*$G$6 -> 0 | E23: =IF(C12="KG",-100*D12,0) -> 0 | F23: Nein | H23: =IF(F23="Ja",E12/100*-10,-G23) -> 0 | I23: =D23+E23+H23 -> 0
A24: =A13 -> 0 | B24: =B13 -> 0 | C24: =SUM(E13:I13) -> 0 | D24: =C24*$G$6 -> 0 | E24: =IF(C13="KG",-100*D13,0) -> 0 | F24: Nein | H24: =IF(F24="Ja",E13/100*-10,-G24) -> 0 | I24: =D24+E24+H24 -> 0
A25: =A14 -> 0 | B25: =B14 -> 0 | C25: =SUM(E14:I14) -> 0 | D25: =C25*$G$6 -> 0 | E25: =IF(C14="KG",-100*D14,0) -> 0 | F25: Nein | H25: =IF(F25="Ja",E14/100*-10,-G25) -> 0 | I25: =D25+E25+H25 -> 0
A26: =A15 -> 0 | B26: =B15 -> 0 | C26: =SUM(E15:I15) -> 0 | D26: =C26*$G$6 -> 0 | E26: =IF(C15="KG",-100*D15,0) -> 0 | F26: Nein | H26: =IF(F26="Ja",E15/100*-10,-G26) -> 0 | I26: =D26+E26+H26 -> 0
A27: =A16 -> 0 | B27: =B16 -> 0 | C27: =SUM(E16:I16) -> 0 | D27: =C27*$G$6 -> 0 | E27: =IF(C16="KG",-100*D16,0) -> 0 | F27: Nein | H27: =IF(F27="Ja",E16/100*-10,-G27) -> 0 | I27: =D27+E27+H27 -> 0
A28: =A17 -> 0 | B28: =B17 -> 0 | C28: =SUM(E17:I17) -> 0 | D28: =C28*$G$6 -> 0 | E28: =IF(C17="KG",-100*D17,0) -> 0 | F28: Nein | H28: =IF(F28="Ja",E17/100*-10,-G28) -> 0 | I28: =D28+E28+H28 -> 0
H29: Summe | I29: =SUM(I20:I28) -> 0

Sheet Seite 5
A2: Abrechnung Schulbeihilfe Direktabrechnung
A5: Schule | B5: Schulort | C5: Land | D5: Schuljahr | E5: Währung | F5: Datum Umrechnungskurs | G5: Kurs
A6: =Übersicht!B6 -> 0 | B6: =Übersicht!B5 -> 0 | C6: =Übersicht!B7 -> 0 | D6: =Übersicht!B8 -> 0 | F6: =Übersicht!D7 -> 0 | G6: =Übersicht!D6 -> 0
A8: Name der Lehrkraft | B8: Name des Kindes | C8: Klasse | D8: Monate | E8: Schul-/KiGa-Gebühren | F8: Aufnahmegebühr | G8: sonstige Gebühren | H8: Schulbus
A19: Name der Lehrkraft | B19: Name des Kindes | C19: Summe je Kind Landeswährung | D19: Summe je Kind Euro | E19: Eigenanteil | F19: Verpflegung inklusive? | G19: Fester Betrag Verpflegung | H19: Abzug für Verpflegung | I19: Zuwendungs-fähig
A20: =A9 -> 0 | B20: =B9 -> 0 | C20: =SUM(E9:I9) -> 0 | D20: =C20*$G$6 -> 0 | E20: =IF(C9="KG",-100*D9,0) -> 0 | F20: Nein | H20: =IF(F20="Ja",E9/100*-10,-G20) -> 0 | I20: =D20+E20+H20 -> 0
A21: =A10 -> 0 | B21: =B10 -> 0 | C21: =SUM(E10:I10) -> 0 | D21: =C21*$G$6 -> 0 | E21: =IF(C10="KG",-100*D10,0) -> 0 | F21: Nein | H21: =IF(F21="Ja",E10/100*-10,-G21) -> 0 | I21: =D21+E21+H21 -> 0
A22: =A11 -> 0 | B22: =B11 -> 0 | C22: =SUM(E11:I11) -> 0 | D22: =C22*$G$6 -> 0 | E22: =IF(C11="KG",-100*D11,0) -> 0 | F22: Nein | H22: =IF(F22="Ja",E11/100*-10,-G22) -> 0 | I22: =D22+E22+H22 -> 0
A23: =A12 -> 0 | B23: =B12 -> 0 | C23: =SUM(E12:I12) -> 0 | D23: =C23*$G$6 -> 0 | E23: =IF(C12="KG",-100*D12,0) -> 0 | F23: Nein | H23: =IF(F23="Ja",E12/100*-10,-G23) -> 0 | I23: =D23+E23+H23 -> 0
A24: =A13 -> 0 | B24: =B13 -> 0 | C24: =SUM(E13:I13) -> 0 | D24: =C24*$G$6 -> 0 | E24: =IF(C13="KG",-100*D13,0) -> 0 | F24: Nein | H24: =IF(F24="Ja",E13/100*-10,-G24) -> 0 | I24: =D24+E24+H24 -> 0
A25: =A14 -> 0 | B25: =B14 -> 0 | C25: =SUM(E14:I14) -> 0 | D25: =C25*$G$6 -> 0 | E25: =IF(C14="KG",-100*D14,0) -> 0 | F25: Nein | H25: =IF(F25="Ja",E14/100*-10,-G25) -> 0 | I25: =D25+E25+H25 -> 0
A26: =A15 -> 0 | B26: =B15 -> 0 | C26: =SUM(E15:I15) -> 0 | D26: =C26*$G$6 -> 0 | E26: =IF(C15="KG",-100*D15,0) -> 0 | F26: Nein | H26: =IF(F26="Ja",E15/100*-10,-G26) -> 0 | I26: =D26+E26+H26 -> 0
A27: =A16 -> 0 | B27: =B16 -> 0 | C27: =SUM(E16:I16) -> 0 | D27: =C27*$G$6 -> 0 | E27: =IF(C16="KG",-100*D16,0) -> 0 | F27: Nein | H27: =IF(F27="Ja",E16/100*-10,-G27) -> 0 | I27: =D27+E27+H27 -> 0
A28: =A17 -> 0 | B28: =B17 -> 0 | C28: =SUM(E17:I17) -> 0 | D28: =C28*$G$6 -> 0 | E28: =IF(C17="KG",-100*D17,0) -> 0 | F28: Nein | H28: =IF(F28="Ja",E17/100*-10,-G28) -> 0 | I28: =D28+E28+H28 -> 0
H29: Summe | I29: =SUM(I20:I28) -> 0

Sheet Seite 6
A2: Abrechnung Schulbeihilfe Direktabrechnung
A5: Schule | B5: Schulort | C5: Land | D5: Schuljahr | E5: Währung | F5: Datum Umrechnungskurs | G5: Kurs
A6: =Übersicht!B6 -> 0 | B6: =Übersicht!B5 -> 0 | C6: =Übersicht!B7 -> 0 | D6: =Übersicht!B8 -> 0 | F6: =Übersicht!D7 -> 0 | G6: =Übersicht!D6 -> 0
A8: Name der Lehrkraft | B8: Name des Kindes | C8: Klasse | D8: Monate | E8: Schul-/KiGa-Gebühren | F8: Aufnahmegebühr | G8: sonstige Gebühren | H8: Schulbus
A19: Name der Lehrkraft | B19: Name des Kindes | C19: Summe je Kind Landeswährung | D19: Summe je Kind Euro | E19: Eigenanteil | F19: Verpflegung inklusive? | G19: Fester Betrag Verpflegung | H19: Abzug für Verpflegung | I19: Zuwendungs-fähig
A20: =A9 -> 0 | B20: =B9 -> 0 | C20: =SUM(E9:I9) -> 0 | D20: =C20*$G$6 -> 0 | E20: =IF(C9="KG",-100*D9,0) -> 0 | F20: Nein | H20: =IF(F20="Ja",E9/100*-10,-G20) -> 0 | I20: =D20+E20+H20 -> 0
A21: =A10 -> 0 | B21: =B10 -> 0 | C21: =SUM(E10:I10) -> 0 | D21: =C21*$G$6 -> 0 | E21: =IF(C10="KG",-100*D10,0) -> 0 | F21: Nein | H21: =IF(F21="Ja",E10/100*-10,-G21) -> 0 | I21: =D21+E21+H21 -> 0
A22: =A11 -> 0 | B22: =B11 -> 0 | C22: =SUM(E11:I11) -> 0 | D22: =C22*$G$6 -> 0 | E22: =IF(C11="KG",-100*D11,0) -> 0 | F22: Nein | H22: =IF(F22="Ja",E11/100*-10,-G22) -> 0 | I22: =D22+E22+H22 -> 0
A23: =A12 -> 0 | B23: =B12 -> 0 | C23: =SUM(E12:I12) -> 0 | D23: =C23*$G$6 -> 0 | E23: =IF(C12="KG",-100*D12,0) -> 0 | F23: Nein | H23: =IF(F23="Ja",E12/100*-10,-G23) -> 0 | I23: =D23+E23+H23 -> 0
A24: =A13 -> 0 | B24: =B13 -> 0 | C24: =SUM(E13:I13) -> 0 | D24: =C24*$G$6 -> 0 | E24: =IF(C13="KG",-100*D13,0) -> 0 | F24: Nein | H24: =IF(F24="Ja",E13/100*-10,-G24) -> 0 | I24: =D24+E24+H24 -> 0
A25: =A14 -> 0 | B25: =B14 -> 0 | C25: =SUM(E14:I14) -> 0 | D25: =C25*$G$6 -> 0 | E25: =IF(C14="KG",-100*D14,0) -> 0 | F25: Nein | H25: =IF(F25="Ja",E14/100*-10,-G25) -> 0 | I25: =D25+E25+H25 -> 0
A26: =A15 -> 0 | B26: =B15 -> 0 | C26: =SUM(E15:I15) -> 0 | D26: =C26*$G$6 -> 0 | E26: =IF(C15="KG",-100*D15,0) -> 0 | F26: Nein | H26: =IF(F26="Ja",E15/100*-10,-G26) -> 0 | I26: =D26+E26+H26 -> 0
A27: =A16 -> 0 | B27: =B16 -> 0 | C27: =SUM(E16:I16) -> 0 | D27: =C27*$G$6 -> 0 | E27: =IF(C16="KG",-100*D16,0) -> 0 | F27: Nein | H27: =IF(F27="Ja",E16/100*-10,-G27) -> 0 | I27: =D27+E27+H27 -> 0
A28: =A17 -> 0 | B28: =B17 -> 0 | C28: =SUM(E17:I17) -> 0 | D28: =C28*$G$6 -> 0 | E28: =IF(C17="KG",-100*D17,0) -> 0 | F28: Nein | H28: =IF(F28="Ja",E17/100*-10,-G28) -> 0 | I28: =D28+E28+H28 -> 0
H29: Summe | I29: =SUM(I20:I28) -> 0

Sheet Seite 7
A2: Abrechnung Schulbeihilfe Direktabrechnung
A5: Schule | B5: Schulort | C5: Land | D5: Schuljahr | E5: Währung | F5: Datum Umrechnungskurs | G5: Kurs
A6: =Übersicht!B6 -> 0 | B6: =Übersicht!B5 -> 0 | C6: =Übersicht!B7 -> 0 | D6: =Übersicht!B8 -> 0 | F6: =Übersicht!D7 -> 0 | G6: =Übersicht!D6 -> 0
A8: Name der Lehrkraft | B8: Name des Kindes | C8: Klasse | D8: Monate | E8: Schul-/KiGa-Gebühren | F8: Aufnahmegebühr | G8: sonstige Gebühren | H8: Schulbus
A19: Name der Lehrkraft | B19: Name des Kindes | C19: Summe je Kind Landeswährung | D19: Summe je Kind Euro | E19: Eigenanteil | F19: Verpflegung inklusive? | G19: Fester Betrag Verpflegung | H19: Abzug für Verpflegung | I19: Zuwendungs-fähig
A20: =A9 -> 0 | B20: =B9 -> 0 | C20: =SUM(E9:I9) -> 0 | D20: =C20*$G$6 -> 0 | E20: =IF(C9="KG",-100*D9,0) -> 0 | F20: Nein | H20: =IF(F20="Ja",E9/100*-10,-G20) -> 0 | I20: =D20+E20+H20 -> 0
A21: =A10 -> 0 | B21: =B10 -> 0 | C21: =SUM(E10:I10) -> 0 | D21: =C21*$G$6 -> 0 | E21: =IF(C10="KG",-100*D10,0) -> 0 | F21: Nein | H21: =IF(F21="Ja",E10/100*-10,-G21) -> 0 | I21: =D21+E21+H21 -> 0
A22: =A11 -> 0 | B22: =B11 -> 0 | C22: =SUM(E11:I11) -> 0 | D22: =C22*$G$6 -> 0 | E22: =IF(C11="KG",-100*D11,0) -> 0 | F22: Nein | H22: =IF(F22="Ja",E11/100*-10,-G22) -> 0 | I22: =D22+E22+H22 -> 0
A23: =A12 -> 0 | B23: =B12 -> 0 | C23: =SUM(E12:I12) -> 0 | D23: =C23*$G$6 -> 0 | E23: =IF(C12="KG",-100*D12,0) -> 0 | F23: Nein | H23: =IF(F23="Ja",E12/100*-10,-G23) -> 0 | I23: =D23+E23+H23 -> 0
A24: =A13 -> 0 | B24: =B13 -> 0 | C24: =SUM(E13:I13) -> 0 | D24: =C24*$G$6 -> 0 | E24: =IF(C13="KG",-100*D13,0) -> 0 | F24: Nein | H24: =IF(F24="Ja",E13/100*-10,-G24) -> 0 | I24: =D24+E24+H24 -> 0
A25: =A14 -> 0 | B25: =B14 -> 0 | C25: =SUM(E14:I14) -> 0 | D25: =C25*$G$6 -> 0 | E25: =IF(C14="KG",-100*D14,0) -> 0 | F25: Nein | H25: =IF(F25="Ja",E14/100*-10,-G25) -> 0 | I25: =D25+E25+H25 -> 0
A26: =A15 -> 0 | B26: =B15 -> 0 | C26: =SUM(E15:I15) -> 0 | D26: =C26*$G$6 -> 0 | E26: =IF(C15="KG",-100*D15,0) -> 0 | F26: Nein | H26: =IF(F26="Ja",E15/100*-10,-G26) -> 0 | I26: =D26+E26+H26 -> 0
A27: =A16 -> 0 | B27: =B16 -> 0 | C27: =SUM(E16:I16) -> 0 | D27: =C27*$G$6 -> 0 | E27: =IF(C16="KG",-100*D16,0) -> 0 | F27: Nein | H27: =IF(F27="Ja",E16/100*-10,-G27) -> 0 | I27: =D27+E27+H27 -> 0
A28: =A17 -> 0 | B28: =B17 -> 0 | C28: =SUM(E17:I17) -> 0 | D28: =C28*$G$6 -> 0 | E28: =IF(C17="KG",-100*D17,0) -> 0 | F28: Nein | H28: =IF(F28="Ja",E17/100*-10,-G28) -> 0 | I28: =D28+E28+H28 -> 0
H29: Summe | I29: =SUM(I20:I28) -> 0

Sheet Seite 8
A2: Abrechnung Schulbeihilfe Direktabrechnung
A5: Schule | B5: Schulort | C5: Land | D5: Schuljahr | E5: Währung | F5: Datum Umrechnungskurs | G5: Kurs
A6: =Übersicht!B6 -> 0 | B6: =Übersicht!B5 -> 0 | C6: =Übersicht!B7 -> 0 | D6: =Übersicht!B8 -> 0 | F6: =Übersicht!D7 -> 0 | G6: =Übersicht!D6 -> 0
A8: Name der Lehrkraft | B8: Name des Kindes | C8: Klasse | D8: Monate | E8: Schul-/KiGa-Gebühren | F8: Aufnahmegebühr | G8: sonstige Gebühren | H8: Schulbus
A19: Name der Lehrkraft | B19: Name des Kindes | C19: Summe je Kind Landeswährung | D19: Summe je Kind Euro | E19: Eigenanteil | F19: Verpflegung inklusive? | G19: Fester Betrag Verpflegung | H19: Abzug für Verpflegung | I19: Zuwendungs-fähig
A20: =A9 -> 0 | B20: =B9 -> 0 | C20: =SUM(E9:I9) -> 0 | D20: =C20*$G$6 -> 0 | E20: =IF(C9="KG",-100*D9,0) -> 0 | F20: Nein | H20: =IF(F20="Ja",E9/100*-10,-G20) -> 0 | I20: =D20+E20+H20 -> 0
A21: =A10 -> 0 | B21: =B10 -> 0 | C21: =SUM(E10:I10) -> 0 | D21: =C21*$G$6 -> 0 | E21: =IF(C10="KG",-100*D10,0) -> 0 | F21: Nein | H21: =IF(F21="Ja",E10/100*-10,-G21) -> 0 | I21: =D21+E21+H21 -> 0
A22: =A11 -> 0 | B22: =B11 -> 0 | C22: =SUM(E11:I11) -> 0 | D22: =C22*$G$6 -> 0 | E22: =IF(C11="KG",-100*D11,0) -> 0 | F22: Nein | H22: =IF(F22="Ja",E11/100*-10,-G22) -> 0 | I22: =D22+E22+H22 -> 0
A23: =A12 -> 0 | B23: =B12 -> 0 | C23: =SUM(E12:I12) -> 0 | D23: =C23*$G$6 -> 0 | E23: =IF(C12="KG",-100*D12,0) -> 0 | F23: Nein | H23: =IF(F23="Ja",E12/100*-10,-G23) -> 0 | I23: =D23+E23+H23 -> 0
A24: =A13 -> 0 | B24: =B13 -> 0 | C24: =SUM(E13:I13) -> 0 | D24: =C24*$G$6 -> 0 | E24: =IF(C13="KG",-100*D13,0) -> 0 | F24: Nein | H24: =IF(F24="Ja",E13/100*-10,-G24) -> 0 | I24: =D24+E24+H24 -> 0
A25: =A14 -> 0 | B25: =B14 -> 0 | C25: =SUM(E14:I14) -> 0 | D25: =C25*$G$6 -> 0 | E25: =IF(C14="KG",-100*D14,0) -> 0 | F25: Nein | H25: =IF(F25="Ja",E14/100*-10,-G25) -> 0 | I25: =D25+E25+H25 -> 0
A26: =A15 -> 0 | B26: =B15 -> 0 | C26: =SUM(E15:I15) -> 0 | D26: =C26*$G$6 -> 0 | E26: =IF(C15="KG",-100*D15,0) -> 0 | F26: Nein | H26: =IF(F26="Ja",E15/100*-10,-G26) -> 0 | I26: =D26+E26+H26 -> 0
A27: =A16 -> 0 | B27: =B16 -> 0 | C27: =SUM(E16:I16) -> 0 | D27: =C27*$G$6 -> 0 | E27: =IF(C16="KG",-100*D16,0) -> 0 | F27: Nein | H27: =IF(F27="Ja",E16/100*-10,-G27) -> 0 | I27: =D27+E27+H27 -> 0
A28: =A17 -> 0 | B28: =B17 -> 0 | C28: =SUM(E17:I17) -> 0 | D28: =C28*$G$6 -> 0 | E28: =IF(C17="KG",-100*D17,0) -> 0 | F28: Nein | H28: =IF(F28="Ja",E17/100*-10,-G28) -> 0 | I28: =D28+E28+H28 -> 0
H29: Summe | I29: =SUM(I20:I28) -> 0

Sheet Seite 9
A2: Abrechnung Schulbeihilfe Direktabrechnung
A5: Schule | B5: Schulort | C5: Land | D5: Schuljahr | E5: Währung | F5: Datum Umrechnungskurs | G5: Kurs
A6: =Übersicht!B6 -> 0 | B6: =Übersicht!B5 -> 0 | C6: =Übersicht!B7 -> 0 | D6: =Übersicht!B8 -> 0 | F6: =Übersicht!D7 -> 0 | G6: =Übersicht!D6 -> 0
A8: Name der Lehrkraft | B8: Name des Kindes | C8: Klasse | D8: Monate | E8: Schul-/KiGa-Gebühren | F8: Aufnahmegebühr | G8: sonstige Gebühren | H8: Schulbus
A19: Name der Lehrkraft | B19: Name des Kindes | C19: Summe je Kind Landeswährung | D19: Summe je Kind Euro | E19: Eigenanteil | F19: Verpflegung inklusive? | G19: Fester Betrag Verpflegung | H19: Abzug für Verpflegung | I19: Zuwendungs-fähig
A20: =A9 -> 0 | B20: =B9 -> 0 | C20: =SUM(E9:I9) -> 0 | D20: =C20*$G$6 -> 0 | E20: =IF(C9="KG",-100*D9,0) -> 0 | F20: Nein | H20: =IF(F20="Ja",E9/100*-10,-G20) -> 0 | I20: =D20+E20+H20 -> 0
A21: =A10 -> 0 | B21: =B10 -> 0 | C21: =SUM(E10:I10) -> 0 | D21: =C21*$G$6 -> 0 | E21: =IF(C10="KG",-100*D10,0) -> 0 | F21: Nein | H21: =IF(F21="Ja",E10/100*-10,-G21) -> 0 | I21: =D21+E21+H21 -> 0
A22: =A11 -> 0 | B22: =B11 -> 0 | C22: =SUM(E11:I11) -> 0 | D22: =C22*$G$6 -> 0 | E22: =IF(C11="KG",-100*D11,0) -> 0 | F22: Nein | H22: =IF(F22="Ja",E11/100*-10,-G22) -> 0 | I22: =D22+E22+H22 -> 0
A23: =A12 -> 0 | B23: =B12 -> 0 | C23: =SUM(E12:I12) -> 0 | D23: =C23*$G$6 -> 0 | E23: =IF(C12="KG",-100*D12,0) -> 0 | F23: Nein | H23: =IF(F23="Ja",E12/100*-10,-G23) -> 0 | I23: =D23+E23+H23 -> 0
A24: =A13 -> 0 | B24: =B13 -> 0 | C24: =SUM(E13:I13) -> 0 | D24: =C24*$G$6 -> 0 | E24: =IF(C13="KG",-100*D13,0) -> 0 | F24: Nein | H24: =IF(F24="Ja",E13/100*-10,-G24) -> 0 | I24: =D24+E24+H24 -> 0
A25: =A14 -> 0 | B25: =B14 -> 0 | C25: =SUM(E14:I14) -> 0 | D25: =C25*$G$6 -> 0 | E25: =IF(C14="KG",-100*D14,0) -> 0 | F25: Nein | H25: =IF(F25="Ja",E14/100*-10,-G25) -> 0 | I25: =D25+E25+H25 -> 0
A26: =A15 -> 0 | B26: =B15 -> 0 | C26: =SUM(E15:I15) -> 0 | D26: =C26*$G$6 -> 0 | E26: =IF(C15="KG",-100*D15,0) -> 0 | F26: Nein | H26: =IF(F26="Ja",E15/100*-10,-G26) -> 0 | I26: =D26+E26+H26 -> 0
A27: =A16 -> 0 | B27: =B16 -> 0 | C27: =SUM(E16:I16) -> 0 | D27: =C27*$G$6 -> 0 | E27: =IF(C16="KG",-100*D16,0) -> 0 | F27: Nein | H27: =IF(F27="Ja",E16/100*-10,-G27) -> 0 | I27: =D27+E27+H27 -> 0
A28: =A17 -> 0 | B28: =B17 -> 0 | C28: =SUM(E17:I17) -> 0 | D28: =C28*$G$6 -> 0 | E28: =IF(C17="KG",-100*D17,0) -> 0 | F28: Nein | H28: =IF(F28="Ja",E17/100*-10,-G28) -> 0 | I28: =D28+E28+H28 -> 0
H29: Summe | I29: =SUM(I20:I28) -> 0

Sheet Seite 10
A2: Abrechnung Schulbeihilfe Direktabrechnung
A5: Schule | B5: Schulort | C5: Land | D5: Schuljahr | E5: Währung | F5: Datum Umrechnungskurs | G5: Kurs
A6: =Übersicht!B6 -> 0 | B6: =Übersicht!B5 -> 0 | C6: =Übersicht!B7 -> 0 | D6: =Übersicht!B8 -> 0 | F6: =Übersicht!D7 -> 0 | G6: =Übersicht!D6 -> 0
A8: Name der Lehrkraft | B8: Name des Kindes | C8: Klasse | D8: Monate | E8: Schul-/KiGa-Gebühren | F8: Aufnahmegebühr | G8: sonstige Gebühren | H8: Schulbus
A19: Name der Lehrkraft | B19: Name des Kindes | C19: Summe je Kind Landeswährung | D19: Summe je Kind Euro | E19: Eigenanteil | F19: Verpflegung inklusive? | G19: Fester Betrag Verpflegung | H19: Abzug für Verpflegung | I19: Zuwendungs-fähig
A20: =A9 -> 0 | B20: =B9 -> 0 | C20: =SUM(E9:I9) -> 0 | D20: =C20*$G$6 -> 0 | E20: =IF(C9="KG",-100*D9,0) -> 0 | F20: Nein | H20: =IF(F20="Ja",E9/100*-10,-G20) -> 0 | I20: =D20+E20+H20 -> 0
A21: =A10 -> 0 | B21: =B10 -> 0 | C21: =SUM(E10:I10) -> 0 | D21: =C21*$G$6 -> 0 | E21: =IF(C10="KG",-100*D10,0) -> 0 | F21: Nein | H21: =IF(F21="Ja",E10/100*-10,-G21) -> 0 | I21: =D21+E21+H21 -> 0
A22: =A11 -> 0 | B22: =B11 -> 0 | C22: =SUM(E11:I11) -> 0 | D22: =C22*$G$6 -> 0 | E22: =IF(C11="KG",-100*D11,0) -> 0 | F22: Nein | H22: =IF(F22="Ja",E11/100*-10,-G22) -> 0 | I22: =D22+E22+H22 -> 0
A23: =A12 -> 0 | B23: =B12 -> 0 | C23: =SUM(E12:I12) -> 0 | D23: =C23*$G$6 -> 0 | E23: =IF(C12="KG",-100*D12,0) -> 0 | F23: Nein | H23: =IF(F23="Ja",E12/100*-10,-G23) -> 0 | I23: =D23+E23+H23 -> 0
A24: =A13 -> 0 | B24: =B13 -> 0 | C24: =SUM(E13:I13) -> 0 | D24: =C24*$G$6 -> 0 | E24: =IF(C13="KG",-100*D13,0) -> 0 | F24: Nein | H24: =IF(F24="Ja",E13/100*-10,-G24) -> 0 | I24: =D24+E24+H24 -> 0
A25: =A14 -> 0 | B25: =B14 -> 0 | C25: =SUM(E14:I14) -> 0 | D25: =C25*$G$6 -> 0 | E25: =IF(C14="KG",-100*D14,0) -> 0 | F25: Nein | H25: =IF(F25="Ja",E14/100*-10,-G25) -> 0 | I25: =D25+E25+H25 -> 0
A26: =A15 -> 0 | B26: =B15 -> 0 | C26: =SUM(E15:I15) -> 0 | D26: =C26*$G$6 -> 0 | E26: =IF(C15="KG",-100*D15,0) -> 0 | F26: Nein | H26: =IF(F26="Ja",E15/100*-10,-G26) -> 0 | I26: =D26+E26+H26 -> 0
A27: =A16 -> 0 | B27: =B16 -> 0 | C27: =SUM(E16:I16) -> 0 | D27: =C27*$G$6 -> 0 | E27: =IF(C16="KG",-100*D16,0) -> 0 | F27: Nein | H27: =IF(F27="Ja",E16/100*-10,-G27) -> 0 | I27: =D27+E27+H27 -> 0
A28: =A17 -> 0 | B28: =B17 -> 0 | C28: =SUM(E17:I17) -> 0 | D28: =C28*$G$6 -> 0 | E28: =IF(C17="KG",-100*D17,0) -> 0 | F28: Nein | H28: =IF(F28="Ja",E17/100*-10,-G28) -> 0 | I28: =D28+E28+H28 -> 0
H29: Summe | I29: =SUM(I20:I28) -> 0
